BEGIN:VCALENDAR
VERSION:2.0
PRODID:-//Kadampa Meditation Center Washington - ECPv6.15.20//NONSGML v1.0//EN
CALSCALE:GREGORIAN
METHOD:PUBLISH
X-WR-CALNAME:Kadampa Meditation Center Washington
X-ORIGINAL-URL:https://meditateinseattle.org
X-WR-CALDESC:Events for Kadampa Meditation Center Washington
REFRESH-INTERVAL;VALUE=DURATION:PT1H
X-Robots-Tag:noindex
X-PUBLISHED-TTL:PT1H
BEGIN:VTIMEZONE
TZID:America/Vancouver
BEGIN:DAYLIGHT
TZOFFSETFROM:-0800
TZOFFSETTO:-0700
TZNAME:PDT
DTSTART:20250309T100000
END:DAYLIGHT
BEGIN:STANDARD
TZOFFSETFROM:-0700
TZOFFSETTO:-0800
TZNAME:PST
DTSTART:20251102T090000
END:STANDARD
BEGIN:DAYLIGHT
TZOFFSETFROM:-0800
TZOFFSETTO:-0700
TZNAME:PDT
DTSTART:20260308T100000
END:DAYLIGHT
BEGIN:STANDARD
TZOFFSETFROM:-0700
TZOFFSETTO:-0800
TZNAME:PST
DTSTART:20261101T090000
END:STANDARD
BEGIN:DAYLIGHT
TZOFFSETFROM:-0800
TZOFFSETTO:-0700
TZNAME:PDT
DTSTART:20270314T100000
END:DAYLIGHT
BEGIN:STANDARD
TZOFFSETFROM:-0700
TZOFFSETTO:-0800
TZNAME:PST
DTSTART:20271107T090000
END:STANDARD
END:VTIMEZONE
BEGIN:VEVENT
DTSTART;TZID=America/Vancouver:20260422T070000
DTEND;TZID=America/Vancouver:20260422T073000
DTSTAMP:20260422T024659
CREATED:20260304T223101Z
LAST-MODIFIED:20260326T183906Z
UID:10001138-1776841200-1776843000@meditateinseattle.org
SUMMARY:Morning Prostrations: Purifying Negativity
DESCRIPTION:Join us on weekday mornings for a 30-minute prostration practice that purifies our mind of negativity. Every weekday morning we engage in The Bodhisattva’s Confession of Moral Downfalls\, a powerful practice that focuses on the Thirty-five Confession Buddhas to make our mind pure and clean.
URL:https://meditateinseattle.org/event/morning-prostrations-purifying-negativity-4-2/2026-04-22/
LOCATION:Kadampa Meditation Center Washington\, 6556 24th ave NW\, Seattle\, WA\, 98117\, United States
CATEGORIES:#1 Front Page: Upcoming Classes, Prayers & Events,Prayers
ATTACH;FMTTYPE=image/jpeg:https://meditateinseattle.org/wp-content/uploads/2025/12/600x400-Prostrations.jpg
END:VEVENT
BEGIN:VEVENT
DTSTART;TZID=America/Vancouver:20260422T073000
DTEND;TZID=America/Vancouver:20260422T083000
DTSTAMP:20260422T024659
CREATED:20260304T224723Z
LAST-MODIFIED:20260409T172918Z
UID:10001435-1776843000-1776846600@meditateinseattle.org
SUMMARY:Dakini Yoga (HYT Empowerment Required)
DESCRIPTION:For those with Highest Yoga Tantra empowerments of Heruka and Vajrayogini\, we offer Dakini Yoga\, the self-generation meditation practice of Vajrayogini.
URL:https://meditateinseattle.org/event/dakini-yoga-hyt-empowerment-required-4-2/2026-04-22/
LOCATION:Kadampa Meditation Center Washington\, 6556 24th ave NW\, Seattle\, WA\, 98117\, United States
CATEGORIES:#1 Front Page: Upcoming Classes, Prayers & Events,Prayers
ATTACH;FMTTYPE=image/jpeg:https://meditateinseattle.org/wp-content/uploads/2025/11/2024-600x400-Dakini-Yoga-min.jpg
END:VEVENT
BEGIN:VEVENT
DTSTART;TZID=America/Vancouver:20260422T170000
DTEND;TZID=America/Vancouver:20260422T180000
DTSTAMP:20260422T024659
CREATED:20260304T232706Z
LAST-MODIFIED:20260408T192016Z
UID:10001865-1776877200-1776880800@meditateinseattle.org
SUMMARY:Heart Jewel with Lamrim Meditation
DESCRIPTION:The Heart Jewel chanted prayer and meditation practice is the heart essence of Kadampa Buddhism. It is used by many Kadampas as their main daily practice. Through this beautiful practice we can overcome obstacles to our meditation practice and create favorable conditions so that we can nurture and increase our pure Dharma realizations.
URL:https://meditateinseattle.org/event/heart-jewel-with-lamrim-meditation-5-3/2026-04-22/
LOCATION:Kadampa Meditation Center Washington\, 6556 24th ave NW\, Seattle\, WA\, 98117\, United States
CATEGORIES:#1 Front Page: Upcoming Classes, Prayers & Events,Prayers
ATTACH;FMTTYPE=image/jpeg:https://meditateinseattle.org/wp-content/uploads/2025/11/2024-600x400-Heart-Jewel-min.jpg
END:VEVENT
BEGIN:VEVENT
DTSTART;TZID=America/Vancouver:20260422T183000
DTEND;TZID=America/Vancouver:20260422T200000
DTSTAMP:20260422T024659
CREATED:20251202T153822Z
LAST-MODIFIED:20260408T194548Z
UID:10000606-1776882600-1776888000@meditateinseattle.org
SUMMARY:In-Depth Study: Foundation Program
DESCRIPTION:Foundation Program is designed for those who wish to deepen their understanding and experience of Kadampa Buddhism through a systematic study of six texts by Venerable Geshe Kelsang Gyatso Rinpoche. Joining a structured study program of Buddha’s teachings brings great benefits: developing a good heart\, improving wisdom\, and enhancing cherishing of others all come from going deeper into study and meditation practice.
URL:https://meditateinseattle.org/event/in-depth-study-foundation-program/2026-04-22/
LOCATION:Kadampa Meditation Center Washington\, 6556 24th ave NW\, Seattle\, WA\, 98117\, United States
CATEGORIES:Foundation Program
ATTACH;FMTTYPE=image/jpeg:https://meditateinseattle.org/wp-content/uploads/2025/11/meaningful-to-behold_3d-paperback-front_and_ebook-phone-android-cover_combo_2019-02.jpg
END:VEVENT
END:VCALENDAR