BEGIN:VCALENDAR
VERSION:2.0
PRODID:-//Kadampa Meditation Center Washington - ECPv6.15.20//NONSGML v1.0//EN
CALSCALE:GREGORIAN
METHOD:PUBLISH
X-ORIGINAL-URL:https://meditateinseattle.org
X-WR-CALDESC:Events for Kadampa Meditation Center Washington
REFRESH-INTERVAL;VALUE=DURATION:PT1H
X-Robots-Tag:noindex
X-PUBLISHED-TTL:PT1H
BEGIN:VTIMEZONE
TZID:America/Vancouver
BEGIN:DAYLIGHT
TZOFFSETFROM:-0800
TZOFFSETTO:-0700
TZNAME:PDT
DTSTART:20250309T100000
END:DAYLIGHT
BEGIN:STANDARD
TZOFFSETFROM:-0700
TZOFFSETTO:-0800
TZNAME:PST
DTSTART:20251102T090000
END:STANDARD
BEGIN:DAYLIGHT
TZOFFSETFROM:-0800
TZOFFSETTO:-0700
TZNAME:PDT
DTSTART:20260308T100000
END:DAYLIGHT
BEGIN:STANDARD
TZOFFSETFROM:-0700
TZOFFSETTO:-0800
TZNAME:PST
DTSTART:20261101T090000
END:STANDARD
BEGIN:DAYLIGHT
TZOFFSETFROM:-0800
TZOFFSETTO:-0700
TZNAME:PDT
DTSTART:20270314T100000
END:DAYLIGHT
BEGIN:STANDARD
TZOFFSETFROM:-0700
TZOFFSETTO:-0800
TZNAME:PST
DTSTART:20271107T090000
END:STANDARD
END:VTIMEZONE
BEGIN:VEVENT
DTSTART;TZID=America/Vancouver:20260327T100000
DTEND;TZID=America/Vancouver:20260327T130000
DTSTAMP:20260420T000051
CREATED:20260131T045448Z
LAST-MODIFIED:20260409T171331Z
UID:10001813-1774605600-1774616400@meditateinseattle.org
SUMMARY:Shrine Change
DESCRIPTION:
URL:https://meditateinseattle.org/event/shrine-change-2/2026-03-27/
LOCATION:Kadampa Meditation Center Washington\, 6556 24th ave NW\, Seattle\, WA\, 98117\, United States
ATTACH;FMTTYPE=image/jpeg:https://meditateinseattle.org/wp-content/uploads/2025/12/348s.jpg
END:VEVENT
BEGIN:VEVENT
DTSTART;TZID=America/Vancouver:20260328T180000
DTEND;TZID=America/Vancouver:20260328T190000
DTSTAMP:20260420T000051
CREATED:20260131T201348Z
LAST-MODIFIED:20260409T171447Z
UID:10001817-1774720800-1774724400@meditateinseattle.org
SUMMARY:Powa Ceremony: Special Prayers for the Recently Deceased
DESCRIPTION:Beautiful and meaningful prayers to the Buddha of Compassion for those who have recently died. Includes the Buddhist meditation known as "transference of consciousness" for the deceased. Everyone welcome.
URL:https://meditateinseattle.org/event/powa-ceremony-special-prayers-for-the-recently-deceased-2/2026-03-28/
LOCATION:Kadampa Meditation Center Washington\, 6556 24th ave NW\, Seattle\, WA\, 98117\, United States
CATEGORIES:#1 Front Page: Upcoming Classes, Prayers & Events,Prayers
ATTACH;FMTTYPE=image/jpeg:https://meditateinseattle.org/wp-content/uploads/2025/11/2022-600x400-POWA.jpg
END:VEVENT
BEGIN:VEVENT
DTSTART;TZID=America/Vancouver:20260410T180000
DTEND;TZID=America/Vancouver:20260412T130000
DTSTAMP:20260420T000051
CREATED:20260306T193937Z
LAST-MODIFIED:20260306T194540Z
UID:10001818-1775844000-1775998800@meditateinseattle.org
SUMMARY:Ocean Meditation Retreat 2026
DESCRIPTION:Discovering a World of Kindness\nA blissful weekend at Ocean Park Retreat Center\nIn this retreat\, we’ll learn to recognize the incredible kindness we have received from others — from our mother of this life\, from countless beings who provide for us\, and from those who guide and inspire our spiritual growth. \nThrough guided meditations and practical teachings\, we’ll gradually open our hearts to see all living beings as our mothers and awaken a deep appreciation for the limitless kindness we have received since beginningless time. \nWith gentle meditation sessions\, peaceful reflection\, and the calming presence of the ocean\, this retreat gives you the chance to relax\, refresh\, and connect with a warmer\, more open heart. \nReturn home uplifted\, inspired\, and motivated to bring greater kindness into your life and the world around you. \nEveryone of all backgrounds and faiths are welcome!\nAn away retreat with Pacific Northwest Resident Teachers\n~ A blissful weekend at Ocean Park Retreat Center ~ \nTo register\, click here
URL:https://meditateinseattle.org/event/ocean-meditation-retreat-2026/
LOCATION:Ocean Park Retreat Center\, 28511 Vernon Ave\, Ocean Park\, WA\, 98640\, United States
CATEGORIES:#1 Front Page: Upcoming Classes, Prayers & Events,#3 Special Events & Retreat Page
ATTACH;FMTTYPE=image/png:https://meditateinseattle.org/wp-content/uploads/2026/03/Final-with-Pics-Discovering-a-World-of-Kindness-600-x-400-px.png
END:VEVENT
BEGIN:VEVENT
DTSTART;TZID=America/Vancouver:20260414T000000
DTEND;TZID=America/Vancouver:20260415T235959
DTSTAMP:20260420T000051
CREATED:20251206T170459Z
LAST-MODIFIED:20260318T210807Z
UID:10000741-1776124800-1776297599@meditateinseattle.org
SUMMARY:Compassion Fasting Retreat (Nyungnay)
DESCRIPTION:During this 2-day retreat\, we practice fasting\, making prostrations\, and offering chanted prayers to the protector of the world\, the Buddha of Compassion Avalokiteshvara. \nThis beautiful practice emphasizes compassion for all living beings and is a powerful way to purify negativity\, pacify strong delusions\, receive blessings\, and increase our love\, compassion\, and Bodhichitta. \nYou are welcome to participate in one or both days. Both retreat days begin with taking the Mahayana precepts at dawn. The precepts involve maintaining a fast with only a simple meal at lunch\, however you can drink water\, juice\, tea\, etc. throughout the 24 hour period. \nParticipants are encouraged to attend the introductory talk for this retreat.
URL:https://meditateinseattle.org/event/compassion-fasting-retreat-nyungnay/
LOCATION:Kadampa Meditation Center Washington\, 6556 24th ave NW\, Seattle\, WA\, 98117\, United States
CATEGORIES:#1 Front Page: Upcoming Classes, Prayers & Events,#3 Special Events & Retreat Page,Advanced Retreats Page Feed
ATTACH;FMTTYPE=image/jpeg:https://meditateinseattle.org/wp-content/uploads/2025/12/2026-Nyungnay-Retreat-Sm-Rectangle-600-x-400-px.jpg
END:VEVENT
BEGIN:VEVENT
DTSTART;TZID=America/Vancouver:20260424T080000
DTEND;TZID=America/Vancouver:20260429T170000
DTSTAMP:20260420T000051
CREATED:20260326T200351Z
LAST-MODIFIED:20260326T200530Z
UID:10001916-1777017600-1777482000@meditateinseattle.org
SUMMARY:US National Festival 2026
DESCRIPTION:The Heart of Reality\nPrajnaparamita Empowerment & Teachings on the Heart Sutra with Gen-la Kelsang Khyenrab\nThis is an excerpt of the Heart Sutra\, viewed to be the quintessence of Buddha's explanation of emptiness\, or "ultimate truth". From one point of view\, it is utterly simple and a bare revelation of the truth. From another angle\, it is like a beautiful puzzle to be explored and understood that will yield never-ending insights. Its raw power\, when recited with a compassionate motivation\, shifts the mind and empowers change. \nTo aid our understanding of this profound practice\, we will receive the empowerment of Buddha Prajnaparamita. Prajnaparamita is the embodiment of the higher perfection of wisdom. Empowerments are blissful\, guided meditations that help facilitate a connection with a certain enlightened being. Through receiving this blessing empowerment\, we will gain inspiration to understand these deep truths of the Heart Sutra and feel energized to make positive change in our life. Everyone welcome!
URL:https://meditateinseattle.org/event/us-national-festival-2026/
LOCATION:Kadampa Meditation Center Washington\, 6556 24th ave NW\, Seattle\, WA\, 98117\, United States
CATEGORIES:#1 Front Page: Upcoming Classes, Prayers & Events,#3 Special Events & Retreat Page
ATTACH;FMTTYPE=image/webp:https://meditateinseattle.org/wp-content/uploads/2026/02/2026-US-Festival_KMCNY-1080x-no-reg-c.webp
END:VEVENT
BEGIN:VEVENT
DTSTART;TZID=America/Vancouver:20260509T100000
DTEND;TZID=America/Vancouver:20260509T160000
DTSTAMP:20260420T000051
CREATED:20260409T201530Z
LAST-MODIFIED:20260410T224425Z
UID:10001962-1778320800-1778342400@meditateinseattle.org
SUMMARY:Fearless Wisdom: The Blessing Empowerment of Arya Tara
DESCRIPTION:This empowerment is a sublime guided meditation through which we make a deep connection with Arya Green Tara and gain insight on how to rely on her blessings in our spiritual practice. \nArya Tara is a female Buddha\, a manifestation of the ultimate wisdom of all enlightened beings. “Tara” means rescuer; if we rely on Tara with strong faith she will care for us throughout this life and all our future lives. \nThe event includes the blessing empowerment of Arya Green Tara\, instructions on how to receive her enlightened care and blessings in our daily life\, and the opportunity to engage in group practice to strengthen our connection to Tara.
URL:https://meditateinseattle.org/event/fearless-wisdom-the-blessing-empowerment-of-arya-tara/
LOCATION:Kadampa Meditation Center Washington\, 6556 24th ave NW\, Seattle\, WA\, 98117\, United States
CATEGORIES:#1 Front Page: Upcoming Classes, Prayers & Events,#3 Special Events & Retreat Page
ATTACH;FMTTYPE=image/png:https://meditateinseattle.org/wp-content/uploads/2026/04/Fearless-Wisdom-4.png
END:VEVENT
BEGIN:VEVENT
DTSTART;TZID=America/Vancouver:20260522T080000
DTEND;TZID=America/Vancouver:20260527T170000
DTSTAMP:20260420T000051
CREATED:20260409T172322Z
LAST-MODIFIED:20260409T172322Z
UID:10001951-1779436800-1779901200@meditateinseattle.org
SUMMARY:Spring Festival 2026 NKT - IKBU International
DESCRIPTION:BUDDHA AMITAYUS EMPOWERMENT\nAND TEACHINGS ON\nEIGHT VERSES OF TRAINING THE MIND\n\nwith Gen-la Kelsang Khyenrab\n\n\nThrough this empowerment we will receive the special blessings of Amitayus\, the Buddha of long life\, wisdom and merit. \n\n\nThen\, based on Eight Verses of Training the Mind\, Gen-la Khyenrab will explain how we can transform all the problems and difficulties of our daily life into opportunities for developing authentic love and compassion\, and for finding true and lasting happiness. \n'If everyone were to practise cherishing others\, many of the major problems of the world would be solved in a few years.' \nVenerable Geshe Kelsang Gyatso Rinpoche The New Eight Steps to Happiness
URL:https://meditateinseattle.org/event/spring-festival-2026-nkt-ikbu-international/
LOCATION:Kadampa Meditation Center Washington\, 6556 24th ave NW\, Seattle\, WA\, 98117\, United States
CATEGORIES:#1 Front Page: Upcoming Classes, Prayers & Events,#3 Special Events & Retreat Page
ATTACH;FMTTYPE=image/png:https://meditateinseattle.org/wp-content/uploads/2026/04/Spring-Festival-international-2026.png
END:VEVENT
BEGIN:VEVENT
DTSTART;TZID=America/Vancouver:20260620T100000
DTEND;TZID=America/Vancouver:20260620T153000
DTSTAMP:20260420T000052
CREATED:20251111T182808Z
LAST-MODIFIED:20251214T225235Z
UID:10000012-1781949600-1781969400@meditateinseattle.org
SUMMARY:Skagit Valley Day Retreat: The Freedom of Acceptance
DESCRIPTION:Life doesn’t always go the way we want—but learning to accept things as they are can bring deep peace and resilience. In this retreat\, Kadam Trina will guide three meditation sessions on patient acceptance. Experience the inner freedom and emotional balance of an accepting mind\, breaking free from the oppressive mind of anger and frustration.
URL:https://meditateinseattle.org/event/skagit-valley-day-retreat-the-freedom-of-acceptance/
LOCATION:Fidalgo Bay Resort\, 4701 Fidalgo Bay Rd.\, Anacortes\, WA\, 98221\, United States
CATEGORIES:#1 Front Page: Upcoming Classes, Prayers & Events,#3 Special Events & Retreat Page
ATTACH;FMTTYPE=image/jpeg:https://meditateinseattle.org/wp-content/uploads/2025/11/Skagit-Valley-Freedom.jpg
END:VEVENT
BEGIN:VEVENT
DTSTART;TZID=America/Vancouver:20260623T000000
DTEND;TZID=America/Vancouver:20260627T235959
DTSTAMP:20260420T000052
CREATED:20251206T170605Z
LAST-MODIFIED:20251206T170605Z
UID:10000742-1782172800-1782604799@meditateinseattle.org
SUMMARY:Guru Yoga Mandala Offering Retreat
DESCRIPTION:We all wish for spiritual realizations\, but these depend upon creating certain inner conditions such as purifying negativity\, accumulating merit\, and receiving blessings. To do this we need to practice the four great preliminary guides. As a result\, we will gain mahamudra realizations – the quick path to enlightenment. In this retreat we focus on the preliminary practices of receiving blessings and accumulating merit.
URL:https://meditateinseattle.org/event/guru-yoga-mandala-offering-retreat/
LOCATION:Kadampa Meditation Center Washington\, 6556 24th ave NW\, Seattle\, WA\, 98117\, United States
CATEGORIES:#1 Front Page: Upcoming Classes, Prayers & Events,#3 Special Events & Retreat Page,Advanced Retreats Page Feed
ATTACH;FMTTYPE=image/jpeg:https://meditateinseattle.org/wp-content/uploads/2025/12/GuruYogaMandalaOfferingRetreat.jpg
END:VEVENT
END:VCALENDAR