BEGIN:VCALENDAR
VERSION:2.0
PRODID:-//Kadampa Meditation Center Washington - ECPv6.15.20//NONSGML v1.0//EN
CALSCALE:GREGORIAN
METHOD:PUBLISH
X-ORIGINAL-URL:https://meditateinseattle.org
X-WR-CALDESC:Events for Kadampa Meditation Center Washington
REFRESH-INTERVAL;VALUE=DURATION:PT1H
X-Robots-Tag:noindex
X-PUBLISHED-TTL:PT1H
BEGIN:VTIMEZONE
TZID:America/Vancouver
BEGIN:DAYLIGHT
TZOFFSETFROM:-0800
TZOFFSETTO:-0700
TZNAME:PDT
DTSTART:20250309T100000
END:DAYLIGHT
BEGIN:STANDARD
TZOFFSETFROM:-0700
TZOFFSETTO:-0800
TZNAME:PST
DTSTART:20251102T090000
END:STANDARD
BEGIN:DAYLIGHT
TZOFFSETFROM:-0800
TZOFFSETTO:-0700
TZNAME:PDT
DTSTART:20260308T100000
END:DAYLIGHT
BEGIN:STANDARD
TZOFFSETFROM:-0700
TZOFFSETTO:-0800
TZNAME:PST
DTSTART:20261101T090000
END:STANDARD
BEGIN:DAYLIGHT
TZOFFSETFROM:-0800
TZOFFSETTO:-0700
TZNAME:PDT
DTSTART:20270314T100000
END:DAYLIGHT
BEGIN:STANDARD
TZOFFSETFROM:-0700
TZOFFSETTO:-0800
TZNAME:PST
DTSTART:20271107T090000
END:STANDARD
END:VTIMEZONE
BEGIN:VEVENT
DTSTART;TZID=America/Vancouver:20260601T190000
DTEND;TZID=America/Vancouver:20260601T203000
DTSTAMP:20260422T150945
CREATED:20260422T190747Z
LAST-MODIFIED:20260422T190849Z
UID:10001964-1780340400-1780345800@meditateinseattle.org
SUMMARY:Venerable Geshe Kelsang Gyatso\, A Buddhist Master for Our Time
DESCRIPTION:Join us for an evening of deep inspiration and celebration of our founder Venerable Geshe Kelsang Gyatso Rinpoche\, with videos of his life and accomplishments\, refreshments and community. \nFrom a humble monk to a world-renowned Buddhist meditation master\, we can all see reflections of our own spiritual potential through accounts of his dedication\, compassionate actions and kindness. Through his profound yet practical teachings of Buddhism for modern people\, we meet Venerable Geshe Kelsang in our heart and can become continually inspired by him. \n7:00-8:30pm\n7pm - Refreshments\n7:30 - Video presentation of Venerable Geshe-la's life & accomplishments \nFREE EVENT
URL:https://meditateinseattle.org/event/venerable-geshe-kelsang-gyatso-a-buddhist-master-for-our-time/
LOCATION:Kadampa Meditation Center Washington\, 6556 24th ave NW\, Seattle\, WA\, 98117\, United States
CATEGORIES:#1 Front Page: Upcoming Classes, Prayers & Events,#3 Special Events & Retreat Page
ATTACH;FMTTYPE=image/jpeg:https://meditateinseattle.org/wp-content/uploads/2026/04/2026-Ven-GKG-Buddhist-Master-Small-Rectangle-600-x-400-px.jpg
END:VEVENT
BEGIN:VEVENT
DTSTART;TZID=America/Vancouver:20260604T103000
DTEND;TZID=America/Vancouver:20260604T103000
DTSTAMP:20260422T150945
CREATED:20260422T182532Z
LAST-MODIFIED:20260422T184431Z
UID:10001963-1780569000-1780569000@meditateinseattle.org
SUMMARY:Offering our Faith Retreat
DESCRIPTION:Every day\, we remember the extraordinary kindness of Venerable Geshe-la\, our Root Guru and Founder of the New Kadampa Tradition\, but on this auspicious day\, with minds of rejoicing and gratitude\, we will offer him our faith through using the special prayer Request to the Holy Spiritual Guide Venerable Geshe Kelsang Gyatso from his Faithful Disciples and collecting our Guru’s name mantra in a one-day retreat. \nThere will be three sessions of retreat using the sadhana The Hundreds of Deities of the Joyful Land According to Highest Yoga Tantra and the special request prayer. The retreat will conclude with Offering to the Spiritual Guide chanted prayers with a food offering. \nJoin in on this beautiful retreat as part of celebrating Buddha’s Turning the Wheel of Dharma Day\, or Dharmachakra Day\, marking Buddha’s first teachings in this world. Attend one or all sessions. This event is free and open to everyone. \nTo register click here
URL:https://meditateinseattle.org/event/offering-our-faith-retreat/
LOCATION:Kadampa Meditation Center Washington\, 6556 24th ave NW\, Seattle\, WA\, 98117\, United States
CATEGORIES:#1 Front Page: Upcoming Classes, Prayers & Events,#3 Special Events & Retreat Page
ATTACH;FMTTYPE=image/jpeg:https://meditateinseattle.org/wp-content/uploads/2026/04/2026-Offering-Faith-Small-Rectangle-600-x-400-px.jpg
END:VEVENT
BEGIN:VEVENT
DTSTART;TZID=America/Vancouver:20260620T100000
DTEND;TZID=America/Vancouver:20260620T153000
DTSTAMP:20260422T150945
CREATED:20251111T182808Z
LAST-MODIFIED:20260420T190404Z
UID:10000012-1781949600-1781969400@meditateinseattle.org
SUMMARY:Skagit Valley Day Retreat: The Freedom of Acceptance
DESCRIPTION:Life doesn’t always go the way we want—but learning to accept things as they are can bring deep peace and resilience. In this retreat\, Kadam Trina will guide three meditation sessions on patient acceptance. Experience the inner freedom and emotional balance of an accepting mind\, breaking free from the oppressive mind of anger and frustration.
URL:https://meditateinseattle.org/event/skagit-valley-day-retreat-the-freedom-of-acceptance/
LOCATION:Fidalgo Bay Resort\, 4701 Fidalgo Bay Rd.\, Anacortes\, WA\, 98221\, United States
CATEGORIES:#1 Front Page: Upcoming Classes, Prayers & Events,#3 Special Events & Retreat Page
ATTACH;FMTTYPE=image/jpeg:https://meditateinseattle.org/wp-content/uploads/2026/03/2026-Day-Away-Freedom-of-Acceptance-Small-Rectangle-600-x-400-px.jpg
END:VEVENT
BEGIN:VEVENT
DTSTART;TZID=America/Vancouver:20260623T000000
DTEND;TZID=America/Vancouver:20260627T235959
DTSTAMP:20260422T150945
CREATED:20251206T170605Z
LAST-MODIFIED:20251206T170605Z
UID:10000742-1782172800-1782604799@meditateinseattle.org
SUMMARY:Guru Yoga Mandala Offering Retreat
DESCRIPTION:We all wish for spiritual realizations\, but these depend upon creating certain inner conditions such as purifying negativity\, accumulating merit\, and receiving blessings. To do this we need to practice the four great preliminary guides. As a result\, we will gain mahamudra realizations – the quick path to enlightenment. In this retreat we focus on the preliminary practices of receiving blessings and accumulating merit.
URL:https://meditateinseattle.org/event/guru-yoga-mandala-offering-retreat/
LOCATION:Kadampa Meditation Center Washington\, 6556 24th ave NW\, Seattle\, WA\, 98117\, United States
CATEGORIES:#1 Front Page: Upcoming Classes, Prayers & Events,#3 Special Events & Retreat Page,Advanced Retreats Page Feed
ATTACH;FMTTYPE=image/jpeg:https://meditateinseattle.org/wp-content/uploads/2025/12/GuruYogaMandalaOfferingRetreat.jpg
END:VEVENT
END:VCALENDAR